Package: TENET Version: 1.1.90 Command: /Library/Frameworks/R.framework/Resources/bin/R CMD INSTALL TENET StartedAt: 2025-10-24 15:40:51 -0400 (Fri, 24 Oct 2025) EndedAt: 2025-10-24 15:41:41 -0400 (Fri, 24 Oct 2025) EllapsedTime: 49.5 seconds RetCode: 0 Status: OK