Package: TENET Version: 1.1.90 Command: /Library/Frameworks/R.framework/Resources/bin/R CMD build --keep-empty-dirs --no-resave-data TENET StartedAt: 2025-10-23 18:57:06 -0400 (Thu, 23 Oct 2025) EndedAt: 2025-10-23 19:17:15 -0400 (Thu, 23 Oct 2025) EllapsedTime: 1209.9 seconds RetCode: 0 Status: OK PackageFile: TENET_1.1.90.tar.gz PackageFileSize: 1.944 MiB