Package: TENET Version: 1.1.90 Command: /Library/Frameworks/R.framework/Resources/bin/R CMD INSTALL TENET StartedAt: 2025-10-12 15:19:13 -0400 (Sun, 12 Oct 2025) EndedAt: 2025-10-12 15:19:28 -0400 (Sun, 12 Oct 2025) EllapsedTime: 15.0 seconds RetCode: 0 Status: OK