Package: TEKRABber Version: 1.15.0 Command: /home/biocbuild/bbs-3.23-bioc/R/bin/R CMD build --keep-empty-dirs --no-resave-data TEKRABber StartedAt: 2025-11-21 20:28:21 -0500 (Fri, 21 Nov 2025) EndedAt: 2025-11-21 20:30:17 -0500 (Fri, 21 Nov 2025) EllapsedTime: 116.4 seconds RetCode: 0 Status: OK PackageFile: TEKRABber_1.15.0.tar.gz PackageFileSize: 3.44 MiB