Package: TEKRABber Version: 1.15.0 Command: /Library/Frameworks/R.framework/Resources/bin/R CMD build --keep-empty-dirs --no-resave-data TEKRABber StartedAt: 2025-11-27 19:02:35 -0500 (Thu, 27 Nov 2025) EndedAt: 2025-11-27 19:04:38 -0500 (Thu, 27 Nov 2025) EllapsedTime: 122.8 seconds RetCode: 0 Status: OK PackageFile: TEKRABber_1.15.0.tar.gz PackageFileSize: 3.44 MiB