Package: TEKRABber Version: 1.15.0 Command: rm -rf TEKRABber.buildbin-libdir && mkdir TEKRABber.buildbin-libdir && /Users/biocbuild/BBS/utils/build-universal.sh TEKRABber_1.15.0.tar.gz /Library/Frameworks/R.framework/Resources/bin/R TEKRABber.buildbin-libdir StartedAt: 2025-11-27 02:00:45 -0500 (Thu, 27 Nov 2025) EndedAt: 2025-11-27 02:01:43 -0500 (Thu, 27 Nov 2025) EllapsedTime: 57.7 seconds RetCode: 0 Status: OK PackageFile: TEKRABber_1.15.0.tgz PackageFileSize: 3.388 MiB