Package: TDbasedUFEadv Version: 1.9.1 Command: /home/biocbuild/R/R/bin/R CMD INSTALL TDbasedUFEadv StartedAt: 2025-10-23 21:14:30 -0000 (Thu, 23 Oct 2025) EndedAt: 2025-10-23 21:15:07 -0000 (Thu, 23 Oct 2025) EllapsedTime: 36.8 seconds RetCode: 0 Status: OK