Package: TDbasedUFEadv Version: 1.9.1 Command: /home/biocbuild/R/R/bin/R CMD build --keep-empty-dirs --no-resave-data TDbasedUFEadv StartedAt: 2025-10-21 03:40:33 -0000 (Tue, 21 Oct 2025) EndedAt: 2025-10-21 03:45:23 -0000 (Tue, 21 Oct 2025) EllapsedTime: 290.1 seconds RetCode: 0 Status: OK PackageFile: TDbasedUFEadv_1.9.1.tar.gz PackageFileSize: 2.586 MiB