Package: TDbasedUFEadv Version: 1.9.1 Command: /home/biocbuild/bbs-3.22-bioc/R/bin/R CMD check --install=check:TDbasedUFEadv.install-out.txt --library=/home/biocbuild/bbs-3.22-bioc/R/site-library --timings TDbasedUFEadv_1.9.1.tar.gz StartedAt: 2025-10-22 05:39:47 -0400 (Wed, 22 Oct 2025) EndedAt: 2025-10-22 05:46:29 -0400 (Wed, 22 Oct 2025) EllapsedTime: 402.3 seconds RetCode: 0 Status: OK CheckDir: TDbasedUFEadv.Rcheck Warnings: 0