Package: TDbasedUFEadv Version: 1.11.0 Command: /home/biocbuild/bbs-3.23-bioc/R/bin/R CMD INSTALL TDbasedUFEadv StartedAt: 2025-11-06 15:48:39 -0500 (Thu, 06 Nov 2025) EndedAt: 2025-11-06 15:49:06 -0500 (Thu, 06 Nov 2025) EllapsedTime: 27.3 seconds RetCode: 0 Status: OK