Package: TDbasedUFEadv Version: 1.11.0 Command: /home/biocbuild/bbs-3.23-bioc/R/bin/R CMD build --keep-empty-dirs --no-resave-data TDbasedUFEadv StartedAt: 2025-11-05 20:28:46 -0500 (Wed, 05 Nov 2025) EndedAt: 2025-11-05 20:31:57 -0500 (Wed, 05 Nov 2025) EllapsedTime: 190.4 seconds RetCode: 0 Status: OK PackageFile: TDbasedUFEadv_1.11.0.tar.gz PackageFileSize: 3.779 MiB