Package: TDbasedUFEadv Version: 1.9.1 Command: /Library/Frameworks/R.framework/Resources/bin/R CMD INSTALL TDbasedUFEadv StartedAt: 2025-09-29 15:43:36 -0400 (Mon, 29 Sep 2025) EndedAt: 2025-09-29 15:44:14 -0400 (Mon, 29 Sep 2025) EllapsedTime: 37.7 seconds RetCode: 0 Status: OK