Package: TDbasedUFEadv Version: 1.9.1 Maintainer: Y-h. Taguchi MaintainerEmail: tag at granular.com git_url: https://git.bioconductor.org/packages/TDbasedUFEadv git_branch: devel git_last_commit: f2ceb61 git_last_commit_date: 2025-06-16 09:25:28 -0400 (Mon, 16 Jun 2025)