Package: TDbasedUFE Version: 1.9.0 Command: /home/biocbuild/R/R/bin/R CMD build --keep-empty-dirs --no-resave-data TDbasedUFE StartedAt: 2025-10-17 05:08:38 -0000 (Fri, 17 Oct 2025) EndedAt: 2025-10-17 05:09:18 -0000 (Fri, 17 Oct 2025) EllapsedTime: 40.0 seconds RetCode: 0 Status: OK PackageFile: TDbasedUFE_1.9.0.tar.gz PackageFileSize: 1.039 MiB