Package: TDbasedUFE Version: 1.9.0 Command: /home/biocbuild/bbs-3.22-bioc/R/bin/R CMD check --install=check:TDbasedUFE.install-out.txt --library=/home/biocbuild/bbs-3.22-bioc/R/site-library --timings TDbasedUFE_1.9.0.tar.gz StartedAt: 2025-10-16 05:42:12 -0400 (Thu, 16 Oct 2025) EndedAt: 2025-10-16 05:44:21 -0400 (Thu, 16 Oct 2025) EllapsedTime: 129.1 seconds RetCode: 0 Status: OK CheckDir: TDbasedUFE.Rcheck Warnings: 0