Package: TDbasedUFE Version: 1.11.0 Command: /home/biocbuild/bbs-3.23-bioc/R/bin/R CMD check --install=check:TDbasedUFE.install-out.txt --library=/home/biocbuild/bbs-3.23-bioc/R/site-library --timings TDbasedUFE_1.11.0.tar.gz StartedAt: 2025-11-24 04:42:02 -0500 (Mon, 24 Nov 2025) EndedAt: 2025-11-24 04:44:01 -0500 (Mon, 24 Nov 2025) EllapsedTime: 119.2 seconds RetCode: 0 Status: OK CheckDir: TDbasedUFE.Rcheck Warnings: 0