Package: TCseq Version: 1.33.0 Command: /home/biocbuild/R/R/bin/R CMD INSTALL TCseq StartedAt: 2025-10-06 20:50:42 -0000 (Mon, 06 Oct 2025) EndedAt: 2025-10-06 20:51:20 -0000 (Mon, 06 Oct 2025) EllapsedTime: 38.6 seconds RetCode: 0 Status: OK