Package: TCseq Version: 1.33.0 Command: /home/biocbuild/R/R/bin/R CMD build --keep-empty-dirs --no-resave-data TCseq StartedAt: 2025-10-07 03:28:15 -0000 (Tue, 07 Oct 2025) EndedAt: 2025-10-07 03:29:13 -0000 (Tue, 07 Oct 2025) EllapsedTime: 58.1 seconds RetCode: 0 Status: OK PackageFile: TCseq_1.33.0.tar.gz PackageFileSize: 1.109 MiB