Package: TCGAutils Version: 1.31.3 Command: /home/biocbuild/bbs-3.23-bioc/R/bin/R CMD INSTALL TCGAutils StartedAt: 2025-11-19 15:46:04 -0500 (Wed, 19 Nov 2025) EndedAt: 2025-11-19 15:46:43 -0500 (Wed, 19 Nov 2025) EllapsedTime: 39.1 seconds RetCode: 0 Status: OK