Package: TCGAutils Version: 1.31.3 Command: /home/biocbuild/bbs-3.23-bioc/R/bin/R CMD check --install=check:TCGAutils.install-out.txt --library=/home/biocbuild/bbs-3.23-bioc/R/site-library --timings TCGAutils_1.31.3.tar.gz StartedAt: 2025-11-20 04:45:22 -0500 (Thu, 20 Nov 2025) EndedAt: 2025-11-20 04:54:17 -0500 (Thu, 20 Nov 2025) EllapsedTime: 534.6 seconds RetCode: 0 Status: OK CheckDir: TCGAutils.Rcheck Warnings: 0