Package: TCGAutils Version: 1.31.3 Command: /home/biocbuild/bbs-3.23-bioc/R/bin/R CMD build --keep-empty-dirs --no-resave-data TCGAutils StartedAt: 2025-11-19 20:29:31 -0500 (Wed, 19 Nov 2025) EndedAt: 2025-11-19 20:32:23 -0500 (Wed, 19 Nov 2025) EllapsedTime: 171.5 seconds RetCode: 0 Status: OK PackageFile: TCGAutils_1.31.3.tar.gz PackageFileSize: 405.8 KiB