Package: TCGAutils Version: 1.30.0 Command: /Library/Frameworks/R.framework/Resources/bin/R CMD check --install=check:TCGAutils.install-out.txt --library=/Library/Frameworks/R.framework/Resources/library --no-vignettes --timings TCGAutils_1.30.0.tar.gz StartedAt: 2025-10-30 07:23:12 -0400 (Thu, 30 Oct 2025) EndedAt: 2025-10-30 07:29:07 -0400 (Thu, 30 Oct 2025) EllapsedTime: 354.6 seconds RetCode: 1 Status: ERROR CheckDir: TCGAutils.Rcheck Warnings: NA