Package: TCGAutils Version: 1.29.5 Command: /Library/Frameworks/R.framework/Resources/bin/R CMD check --install=check:TCGAutils.install-out.txt --library=/Library/Frameworks/R.framework/Resources/library --no-vignettes --timings TCGAutils_1.29.5.tar.gz StartedAt: 2025-10-09 22:06:18 -0400 (Thu, 09 Oct 2025) EndedAt: 2025-10-09 22:08:59 -0400 (Thu, 09 Oct 2025) EllapsedTime: 161.0 seconds RetCode: 0 Status: OK CheckDir: TCGAutils.Rcheck Warnings: 0