Package: TCGAbiolinks Version: 2.37.3 Command: /home/biocbuild/R/R/bin/R CMD INSTALL TCGAbiolinks StartedAt: 2025-10-09 21:20:11 -0000 (Thu, 09 Oct 2025) EndedAt: 2025-10-09 21:21:06 -0000 (Thu, 09 Oct 2025) EllapsedTime: 54.9 seconds RetCode: 0 Status: OK