Package: TCGAbiolinks Version: 2.37.3 Command: /home/biocbuild/R/R/bin/R CMD build --keep-empty-dirs --no-resave-data TCGAbiolinks StartedAt: 2025-10-10 04:41:27 -0000 (Fri, 10 Oct 2025) EndedAt: 2025-10-10 04:53:07 -0000 (Fri, 10 Oct 2025) EllapsedTime: 700.3 seconds RetCode: 0 Status: OK PackageFile: TCGAbiolinks_2.37.3.tar.gz PackageFileSize: 53.7 MiB