Package: TCGAbiolinks Version: 2.37.1 Command: rm -rf TCGAbiolinks.buildbin-libdir && mkdir TCGAbiolinks.buildbin-libdir && F:\biocbuild\bbs-3.22-bioc\R\bin\R.exe CMD INSTALL --build --library=TCGAbiolinks.buildbin-libdir TCGAbiolinks_2.37.1.tar.gz StartedAt: 2025-08-15 11:28:26 -0400 (Fri, 15 Aug 2025) EndedAt: 2025-08-15 11:30:10 -0400 (Fri, 15 Aug 2025) EllapsedTime: 104.2 seconds RetCode: 0 Status: OK PackageFile: TCGAbiolinks_2.37.1.zip PackageFileSize: 61.65 MiB