Package: TCGAbiolinks Version: 2.37.2 Command: /home/biocbuild/bbs-3.22-bioc/R/bin/R CMD check --install=check:TCGAbiolinks.install-out.txt --library=/home/biocbuild/bbs-3.22-bioc/R/site-library --timings TCGAbiolinks_2.37.2.tar.gz StartedAt: 2025-10-06 05:07:11 -0400 (Mon, 06 Oct 2025) EndedAt: 2025-10-06 05:24:16 -0400 (Mon, 06 Oct 2025) EllapsedTime: 1025.1 seconds RetCode: 0 Status: WARNINGS CheckDir: TCGAbiolinks.Rcheck Warnings: 2