Package: TCGAbiolinks Version: 2.39.0 Command: /home/biocbuild/bbs-3.23-bioc/R/bin/R CMD INSTALL TCGAbiolinks StartedAt: 2025-11-04 15:25:04 -0500 (Tue, 04 Nov 2025) EndedAt: 2025-11-04 15:25:46 -0500 (Tue, 04 Nov 2025) EllapsedTime: 42.2 seconds RetCode: 0 Status: OK