Package: TCGAbiolinks Version: 2.39.0 Command: /home/biocbuild/bbs-3.23-bioc/R/bin/R CMD check --install=check:TCGAbiolinks.install-out.txt --library=/home/biocbuild/bbs-3.23-bioc/R/site-library --timings TCGAbiolinks_2.39.0.tar.gz StartedAt: 2025-11-06 04:37:46 -0500 (Thu, 06 Nov 2025) EndedAt: 2025-11-06 04:54:24 -0500 (Thu, 06 Nov 2025) EllapsedTime: 997.4 seconds RetCode: 0 Status: WARNINGS CheckDir: TCGAbiolinks.Rcheck Warnings: 2