Package: TCC Version: 1.49.1 Command: /home/biocbuild/bbs-3.22-bioc/R/bin/R CMD check --install=check:TCC.install-out.txt --library=/home/biocbuild/bbs-3.22-bioc/R/site-library --timings TCC_1.49.1.tar.gz StartedAt: 2025-10-25 04:51:57 -0400 (Sat, 25 Oct 2025) EndedAt: 2025-10-25 04:57:20 -0400 (Sat, 25 Oct 2025) EllapsedTime: 323.3 seconds RetCode: 0 Status: OK CheckDir: TCC.Rcheck Warnings: 0