Package: TCC Version: 1.51.0 Command: /home/biocbuild/bbs-3.23-bioc/R/bin/R CMD INSTALL TCC StartedAt: 2025-11-20 15:21:07 -0500 (Thu, 20 Nov 2025) EndedAt: 2025-11-20 15:21:38 -0500 (Thu, 20 Nov 2025) EllapsedTime: 31.0 seconds RetCode: 0 Status: OK