Package: TCC Version: 1.51.0 Command: /home/biocbuild/bbs-3.23-bioc/R/bin/R CMD build --keep-empty-dirs --no-resave-data TCC StartedAt: 2025-11-20 20:28:40 -0500 (Thu, 20 Nov 2025) EndedAt: 2025-11-20 20:30:16 -0500 (Thu, 20 Nov 2025) EllapsedTime: 96.4 seconds RetCode: 0 Status: OK PackageFile: TCC_1.51.0.tar.gz PackageFileSize: 3.184 MiB