Package: TCC Version: 1.49.1 Command: /Library/Frameworks/R.framework/Resources/bin/R CMD INSTALL TCC StartedAt: 2025-10-06 15:20:41 -0400 (Mon, 06 Oct 2025) EndedAt: 2025-10-06 15:21:21 -0400 (Mon, 06 Oct 2025) EllapsedTime: 39.9 seconds RetCode: 0 Status: OK