Package: TCC Version: 1.49.1 Command: /Library/Frameworks/R.framework/Resources/bin/R CMD build --keep-empty-dirs --no-resave-data TCC StartedAt: 2025-10-06 19:21:25 -0400 (Mon, 06 Oct 2025) EndedAt: 2025-10-06 19:23:28 -0400 (Mon, 06 Oct 2025) EllapsedTime: 122.3 seconds RetCode: 0 Status: OK PackageFile: TCC_1.49.1.tar.gz PackageFileSize: 2.598 MiB