Package: TCC Version: 1.49.1 Maintainer: Jianqiang Sun MaintainerEmail: sun at bitdessin.dev git_url: https://git.bioconductor.org/packages/TCC git_branch: devel git_last_commit: 3bf1e82 git_last_commit_date: 2025-04-23 02:15:16 -0400 (Wed, 23 Apr 2025)