Package: TBSignatureProfiler Version: 1.23.0 Command: /home/biocbuild/bbs-3.23-bioc/R/bin/R CMD INSTALL TBSignatureProfiler StartedAt: 2025-11-20 15:55:53 -0500 (Thu, 20 Nov 2025) EndedAt: 2025-11-20 15:55:57 -0500 (Thu, 20 Nov 2025) EllapsedTime: 4.0 seconds RetCode: 0 Status: OK