Package: TBSignatureProfiler Version: 1.23.0 Command: /home/biocbuild/bbs-3.23-bioc/R/bin/R CMD build --keep-empty-dirs --no-resave-data TBSignatureProfiler StartedAt: 2025-11-20 20:28:40 -0500 (Thu, 20 Nov 2025) EndedAt: 2025-11-20 20:28:55 -0500 (Thu, 20 Nov 2025) EllapsedTime: 15.0 seconds RetCode: 0 Status: OK PackageFile: TBSignatureProfiler_1.23.0.tar.gz PackageFileSize: 2.895 MiB