Package: TBSignatureProfiler Version: 1.21.4 Command: /Library/Frameworks/R.framework/Resources/bin/R CMD INSTALL TBSignatureProfiler StartedAt: 2025-10-12 15:51:11 -0400 (Sun, 12 Oct 2025) EndedAt: 2025-10-12 15:51:16 -0400 (Sun, 12 Oct 2025) EllapsedTime: 5.8 seconds RetCode: 0 Status: OK