Package: TBSignatureProfiler Version: 1.21.4 Command: /Library/Frameworks/R.framework/Resources/bin/R CMD build --keep-empty-dirs --no-resave-data TBSignatureProfiler StartedAt: 2025-10-13 19:39:47 -0400 (Mon, 13 Oct 2025) EndedAt: 2025-10-13 19:40:07 -0400 (Mon, 13 Oct 2025) EllapsedTime: 19.4 seconds RetCode: 0 Status: OK PackageFile: TBSignatureProfiler_1.21.4.tar.gz PackageFileSize: 2.895 MiB