Package: TBSignatureProfiler Version: 1.21.4 Command: rm -rf TBSignatureProfiler.buildbin-libdir && mkdir TBSignatureProfiler.buildbin-libdir && /Users/biocbuild/BBS/utils/build-universal.sh TBSignatureProfiler_1.21.4.tar.gz /Library/Frameworks/R.framework/Resources/bin/R TBSignatureProfiler.buildbin-libdir StartedAt: 2025-10-13 03:01:12 -0400 (Mon, 13 Oct 2025) EndedAt: 2025-10-13 03:01:20 -0400 (Mon, 13 Oct 2025) EllapsedTime: 8.2 seconds RetCode: 0 Status: OK PackageFile: TBSignatureProfiler_1.21.4.tgz PackageFileSize: 3.346 MiB