Package: TBSignatureProfiler Version: 1.23.0 Maintainer: Kiloni Quiles MaintainerEmail: kiloni.quiles at rutgers.edu git_url: https://git.bioconductor.org/packages/TBSignatureProfiler git_branch: devel git_last_commit: fa5ed4c git_last_commit_date: 2025-10-29 10:58:59 -0400 (Wed, 29 Oct 2025)