Package: TAPseq Version: 1.21.0 Command: /home/biocbuild/bbs-3.22-bioc/R/bin/R CMD check --install=check:TAPseq.install-out.txt --library=/home/biocbuild/bbs-3.22-bioc/R/site-library --timings TAPseq_1.21.0.tar.gz StartedAt: 2025-10-04 04:59:17 -0400 (Sat, 04 Oct 2025) EndedAt: 2025-10-04 05:16:32 -0400 (Sat, 04 Oct 2025) EllapsedTime: 1035.1 seconds RetCode: 0 Status: WARNINGS CheckDir: TAPseq.Rcheck Warnings: 1