Package: TAPseq Version: 1.23.0 Command: /home/biocbuild/bbs-3.23-bioc/R/bin/R CMD INSTALL TAPseq StartedAt: 2025-11-04 15:38:05 -0500 (Tue, 04 Nov 2025) EndedAt: 2025-11-04 15:38:46 -0500 (Tue, 04 Nov 2025) EllapsedTime: 40.5 seconds RetCode: 0 Status: OK