Package: TAPseq Version: 1.23.0 Command: /home/biocbuild/bbs-3.23-bioc/R/bin/R CMD check --install=check:TAPseq.install-out.txt --library=/home/biocbuild/bbs-3.23-bioc/R/site-library --timings TAPseq_1.23.0.tar.gz StartedAt: 2025-11-08 04:38:00 -0500 (Sat, 08 Nov 2025) EndedAt: 2025-11-08 04:54:12 -0500 (Sat, 08 Nov 2025) EllapsedTime: 972.3 seconds RetCode: 0 Status: WARNINGS CheckDir: TAPseq.Rcheck Warnings: 1