Package: TAPseq Version: 1.23.0 Command: /home/biocbuild/bbs-3.23-bioc/R/bin/R CMD build --keep-empty-dirs --no-resave-data TAPseq StartedAt: 2025-11-04 20:21:06 -0500 (Tue, 04 Nov 2025) EndedAt: 2025-11-04 20:25:43 -0500 (Tue, 04 Nov 2025) EllapsedTime: 276.6 seconds RetCode: 0 Status: OK PackageFile: TAPseq_1.23.0.tar.gz PackageFileSize: 2.563 MiB