Package: TADCompare Version: 1.21.0 Command: /home/biocbuild/bbs-3.23-bioc/R/bin/R CMD INSTALL TADCompare StartedAt: 2025-11-05 15:41:33 -0500 (Wed, 05 Nov 2025) EndedAt: 2025-11-05 15:42:03 -0500 (Wed, 05 Nov 2025) EllapsedTime: 30.0 seconds RetCode: 0 Status: OK