Package: TADCompare Version: 1.19.0 Command: /Library/Frameworks/R.framework/Resources/bin/R CMD INSTALL TADCompare StartedAt: 2025-10-09 15:31:37 -0400 (Thu, 09 Oct 2025) EndedAt: 2025-10-09 15:32:19 -0400 (Thu, 09 Oct 2025) EllapsedTime: 41.6 seconds RetCode: 0 Status: OK