Package: TADCompare Version: 1.19.0 Command: /Library/Frameworks/R.framework/Resources/bin/R CMD build --keep-empty-dirs --no-resave-data TADCompare StartedAt: 2025-10-09 19:25:27 -0400 (Thu, 09 Oct 2025) EndedAt: 2025-10-09 19:26:55 -0400 (Thu, 09 Oct 2025) EllapsedTime: 88.0 seconds RetCode: 0 Status: OK PackageFile: TADCompare_1.19.0.tar.gz PackageFileSize: 4.202 MiB