Package: TADCompare Version: 1.19.0 Command: rm -rf TADCompare.buildbin-libdir && mkdir TADCompare.buildbin-libdir && /Users/biocbuild/BBS/utils/build-universal.sh TADCompare_1.19.0.tar.gz /Library/Frameworks/R.framework/Resources/bin/R TADCompare.buildbin-libdir StartedAt: 2025-10-10 03:03:43 -0400 (Fri, 10 Oct 2025) EndedAt: 2025-10-10 03:04:30 -0400 (Fri, 10 Oct 2025) EllapsedTime: 47.3 seconds RetCode: 0 Status: OK PackageFile: TADCompare_1.19.0.tgz PackageFileSize: 5.013 MiB