Package: SynMut Version: 1.27.0 Command: /home/biocbuild/bbs-3.23-bioc/R/bin/R CMD INSTALL SynMut StartedAt: 2025-11-20 15:16:06 -0500 (Thu, 20 Nov 2025) EndedAt: 2025-11-20 15:16:17 -0500 (Thu, 20 Nov 2025) EllapsedTime: 11.0 seconds RetCode: 0 Status: OK